BEGIN:VCALENDAR
VERSION:2.0
PRODID:-//Chiefswood Park - ECPv6.15.18//NONSGML v1.0//EN
CALSCALE:GREGORIAN
METHOD:PUBLISH
X-WR-CALNAME:Chiefswood Park
X-ORIGINAL-URL:https://chiefswoodpark.ca
X-WR-CALDESC:Events for Chiefswood Park
REFRESH-INTERVAL;VALUE=DURATION:PT1H
X-Robots-Tag:noindex
X-PUBLISHED-TTL:PT1H
BEGIN:VTIMEZONE
TZID:UTC
BEGIN:STANDARD
TZOFFSETFROM:+0000
TZOFFSETTO:+0000
TZNAME:UTC
DTSTART:20240101T000000
END:STANDARD
END:VTIMEZONE
BEGIN:VEVENT
DTSTART;TZID=UTC:20250809T073000
DTEND;TZID=UTC:20250809T093000
DTSTAMP:20260419T135622
CREATED:20250708T190417Z
LAST-MODIFIED:20250708T190417Z
UID:2514-1754724600-1754731800@chiefswoodpark.ca
SUMMARY:Cereal & Cartoons
DESCRIPTION:Join us in the Upper Pavilion for a cereal buffet and Saturday morning cartoons! Free for all guests staying at the park\, $5 for anyone dropping in.
URL:https://chiefswoodpark.ca/event/cereal-cartoons-23/
CATEGORIES:Saturday Morning Cereal & Cartoons
ATTACH;FMTTYPE=image/png:https://chiefswoodpark.ca/wp-content/uploads/2025/03/CWP-Cereal-3.png
END:VEVENT
END:VCALENDAR