BEGIN:VCALENDAR
VERSION:2.0
PRODID:-//Chiefswood Park - ECPv6.15.18//NONSGML v1.0//EN
CALSCALE:GREGORIAN
METHOD:PUBLISH
X-ORIGINAL-URL:https://chiefswoodpark.ca
X-WR-CALDESC:Events for Chiefswood Park
REFRESH-INTERVAL;VALUE=DURATION:PT1H
X-Robots-Tag:noindex
X-PUBLISHED-TTL:PT1H
BEGIN:VTIMEZONE
TZID:UTC
BEGIN:STANDARD
TZOFFSETFROM:+0000
TZOFFSETTO:+0000
TZNAME:UTC
DTSTART:20210101T000000
END:STANDARD
END:VTIMEZONE
BEGIN:VEVENT
DTSTART;TZID=UTC:20220731T100000
DTEND;TZID=UTC:20220731T110000
DTSTAMP:20260425T221021
CREATED:20220613T162132Z
LAST-MODIFIED:20220716T225744Z
UID:1099-1659261600-1659265200@chiefswoodpark.ca
SUMMARY:Yoga in the Park
DESCRIPTION:Join us in a relaxing 1 hour yoga class\nIn partnership with Linsey Hill from Oak Tree Yoga & Wellness. \nThis will be a gentle Hatha Yoga which includes a variety of postures in sequence. We will be transitioning from standing to mat and from mat to standing.\nThe class will be located down by the river\, please check in at the park office to be told the location.\nPlease bring your own yoga mat\, water and suitable clothing for the weather. (we do have extra yoga mats if needed) \n  \nCost: $5.00 per class. \nThis is a drop in style class. Please check in at the park off to pay your $5.00\nFor addition questions please call 519-752-3969
URL:https://chiefswoodpark.ca/event/yoga-in-the-park-5/
LOCATION:Chiefswood Park\, 1037 Highway 54\, Ohsweken\, Ontario\, N0A 1M0\, Canada
CATEGORIES:Yoga In the Park
ATTACH;FMTTYPE=image/jpeg:https://chiefswoodpark.ca/wp-content/uploads/2021/06/Copy-of-Chiefswood-Park-presents-1.jpg
ORGANIZER;CN="Shawna":MAILTO:parkcoordinator@chiefswoodpark.ca
END:VEVENT
END:VCALENDAR