BEGIN:VCALENDAR
VERSION:2.0
PRODID:-//Chiefswood Park - ECPv6.15.18//NONSGML v1.0//EN
CALSCALE:GREGORIAN
METHOD:PUBLISH
X-WR-CALNAME:Chiefswood Park
X-ORIGINAL-URL:https://chiefswoodpark.ca
X-WR-CALDESC:Events for Chiefswood Park
REFRESH-INTERVAL;VALUE=DURATION:PT1H
X-Robots-Tag:noindex
X-PUBLISHED-TTL:PT1H
BEGIN:VTIMEZONE
TZID:UTC
BEGIN:STANDARD
TZOFFSETFROM:+0000
TZOFFSETTO:+0000
TZNAME:UTC
DTSTART:20200101T000000
END:STANDARD
END:VTIMEZONE
BEGIN:VEVENT
DTSTART;TZID=UTC:20210913T183000
DTEND;TZID=UTC:20210913T193000
DTSTAMP:20260425T103206
CREATED:20210902T151555Z
LAST-MODIFIED:20210903T134627Z
UID:856-1631557800-1631561400@chiefswoodpark.ca
SUMMARY:Paddling for Beginners
DESCRIPTION:Join our skilled instructors for an hour of paddling instruction. You will leave feeling confident and ready to paddle! \nPayment is due in full upon registration.\nCall or email to register.
URL:https://chiefswoodpark.ca/event/paddling-for-beginners/
LOCATION:Chiefswood Park\, 1037 Highway 54\, Ohsweken\, Ontario\, N0A 1M0\, Canada
CATEGORIES:Special Event
ORGANIZER;CN="Shawna":MAILTO:parkcoordinator@chiefswoodpark.ca
END:VEVENT
BEGIN:VEVENT
DTSTART;TZID=UTC:20210920T183000
DTEND;TZID=UTC:20210920T193000
DTSTAMP:20260425T103206
CREATED:20210902T151706Z
LAST-MODIFIED:20210903T134619Z
UID:858-1632162600-1632166200@chiefswoodpark.ca
SUMMARY:Paddling for Beginners
DESCRIPTION:Join our skilled instructors for an hour of paddling instruction. You will leave feeling confident and ready to paddle! \nPayment is due in full upon registration.\nCall or email to register.
URL:https://chiefswoodpark.ca/event/paddling-for-beginners-2/
LOCATION:Chiefswood Park\, 1037 Highway 54\, Ohsweken\, Ontario\, N0A 1M0\, Canada
CATEGORIES:Special Event
ORGANIZER;CN="Shawna":MAILTO:parkcoordinator@chiefswoodpark.ca
END:VEVENT
BEGIN:VEVENT
DTSTART;TZID=UTC:20210927T183000
DTEND;TZID=UTC:20210927T193000
DTSTAMP:20260425T103206
CREATED:20210902T151841Z
LAST-MODIFIED:20210903T134605Z
UID:860-1632767400-1632771000@chiefswoodpark.ca
SUMMARY:Paddling for Beginners
DESCRIPTION:Join our skilled instructors for an hour of paddling instruction. You will leave feeling confident and ready to paddle! \nPayment is due in full upon registration.\nCall or email to register.
URL:https://chiefswoodpark.ca/event/paddling-for-beginners-3/
LOCATION:Chiefswood Park\, 1037 Highway 54\, Ohsweken\, Ontario\, N0A 1M0\, Canada
CATEGORIES:Special Event
ORGANIZER;CN="Shawna":MAILTO:parkcoordinator@chiefswoodpark.ca
END:VEVENT
END:VCALENDAR