BEGIN:VCALENDAR
VERSION:2.0
PRODID:-//Chiefswood Park - ECPv6.15.18//NONSGML v1.0//EN
CALSCALE:GREGORIAN
METHOD:PUBLISH
X-ORIGINAL-URL:https://chiefswoodpark.ca
X-WR-CALDESC:Events for Chiefswood Park
REFRESH-INTERVAL;VALUE=DURATION:PT1H
X-Robots-Tag:noindex
X-PUBLISHED-TTL:PT1H
BEGIN:VTIMEZONE
TZID:UTC
BEGIN:STANDARD
TZOFFSETFROM:+0000
TZOFFSETTO:+0000
TZNAME:UTC
DTSTART:20200101T000000
END:STANDARD
END:VTIMEZONE
BEGIN:VEVENT
DTSTART;TZID=UTC:20210919T160000
DTEND;TZID=UTC:20210919T200000
DTSTAMP:20260425T202357
CREATED:20210901T191120Z
LAST-MODIFIED:20210901T191544Z
UID:839-1632067200-1632081600@chiefswoodpark.ca
SUMMARY:Full Moon Yoga & Paddle
DESCRIPTION:Join us for this beautiful and transformational practice.\n.\nIt’s going to be a beautiful evening \n.\nEveryone Welcome! Come join us as we honour our Grandmother Moon with a beautiful Yoga practice and end the evening with a Full Moon Paddle on the Grand River.\n.\nWe will be having a glow up challenge! Decorate your kayak or canoe in glow sticks\, led lights\, anything eco friendly and the best dressed vessel will win a prize!\n*Please note that all glow sticks or lights must be fastened to the vessel or self and not fall into the water.\n*Each participant must be experienced on the water.\n.\nItinerary:\n4:00pm Registration\n4:15pm Yoga\n5:00pm Meditation\n5:20pm Journaling\n5:40pm Get kayak or canoe ready for the glow contest\n6:00pm On the water for the sunset paddle.
URL:https://chiefswoodpark.ca/event/full-moon-yoga-paddle/
LOCATION:Chiefswood Park\, 1037 Highway 54\, Ohsweken\, Ontario\, N0A 1M0\, Canada
CATEGORIES:Special Event
ORGANIZER;CN="Shawna":MAILTO:parkcoordinator@chiefswoodpark.ca
END:VEVENT
END:VCALENDAR